BEGIN:VCALENDAR
VERSION:2.0
PRODID:-//Jon Trevor - Improv Teacher &amp; Performer - ECPv6.15.15//NONSGML v1.0//EN
CALSCALE:GREGORIAN
METHOD:PUBLISH
X-WR-CALNAME:Jon Trevor - Improv Teacher &amp; Performer
X-ORIGINAL-URL:https://jontrevor.me
X-WR-CALDESC:Events for Jon Trevor - Improv Teacher &amp; Performer
REFRESH-INTERVAL;VALUE=DURATION:PT1H
X-Robots-Tag:noindex
X-PUBLISHED-TTL:PT1H
BEGIN:VTIMEZONE
TZID:Europe/London
BEGIN:DAYLIGHT
TZOFFSETFROM:+0000
TZOFFSETTO:+0100
TZNAME:BST
DTSTART:20240331T010000
END:DAYLIGHT
BEGIN:STANDARD
TZOFFSETFROM:+0100
TZOFFSETTO:+0000
TZNAME:GMT
DTSTART:20241027T010000
END:STANDARD
BEGIN:DAYLIGHT
TZOFFSETFROM:+0000
TZOFFSETTO:+0100
TZNAME:BST
DTSTART:20250330T010000
END:DAYLIGHT
BEGIN:STANDARD
TZOFFSETFROM:+0100
TZOFFSETTO:+0000
TZNAME:GMT
DTSTART:20251026T010000
END:STANDARD
BEGIN:DAYLIGHT
TZOFFSETFROM:+0000
TZOFFSETTO:+0100
TZNAME:BST
DTSTART:20260329T010000
END:DAYLIGHT
BEGIN:STANDARD
TZOFFSETFROM:+0100
TZOFFSETTO:+0000
TZNAME:GMT
DTSTART:20261025T010000
END:STANDARD
BEGIN:DAYLIGHT
TZOFFSETFROM:+0000
TZOFFSETTO:+0100
TZNAME:BST
DTSTART:20270328T010000
END:DAYLIGHT
BEGIN:STANDARD
TZOFFSETFROM:+0100
TZOFFSETTO:+0000
TZNAME:GMT
DTSTART:20271031T010000
END:STANDARD
END:VTIMEZONE
BEGIN:VEVENT
DTSTART;TZID=Europe/London:20260415T193000
DTEND;TZID=Europe/London:20260415T213000
DTSTAMP:20260422T112442
CREATED:20260209T111836Z
LAST-MODIFIED:20260209T111836Z
UID:10000378-1776281400-1776288600@jontrevor.me
SUMMARY:Breakfast of Champions
DESCRIPTION:I perform at Midlands Improv Night on the third Wednesday of every month\, with house team Breakfast of Champions\, alongside other groups from around the Midlands. \nCome and see us at 1000 Trades\, 16 Fredrick Street\, Birmingham\, B1 3HE \nDoors open 7.15\, show starts 7.30 \nFree entry.
URL:https://jontrevor.me/event/breakfast-of-champions-2/2026-04-15/
LOCATION:1000 Trades Pub\, 16 Frederick St\, Jewellery Quarter\, Birmingham\, B1 3HE
CATEGORIES:Performances
ATTACH;FMTTYPE=image/jpeg:https://jontrevor.me/wp-content/uploads/2024/11/breakfast.jpg
END:VEVENT
BEGIN:VEVENT
DTSTART;TZID=Europe/London:20260408T193000
DTEND;TZID=Europe/London:20260408T213000
DTSTAMP:20260422T112442
CREATED:20260209T113546Z
LAST-MODIFIED:20260209T113709Z
UID:10000407-1775676600-1775683800@jontrevor.me
SUMMARY:Improv Comedy with Box of Frogs @ 1000 Trades
DESCRIPTION:Box of Frogs\, Birmingham’s premiere Improv Group\, bring you a night of high-octane improvised comedy nonsense\, based entirely on your suggestions. Expect the unexpected as quick-witted players conjure up hilarious spontaneous songs\, sketches and scenes on the spur of the moment. \nUpstairs at 1000 Trades Pub in the Jewellery Quarter. \nFree Entry – Bucket collection if you laughed! (Recommended donation £5)
URL:https://jontrevor.me/event/improv-comedy-with-box-of-frogs-1000-trades-2/2026-04-08/
LOCATION:1000 Trades Pub\, 16 Frederick St\, Jewellery Quarter\, Birmingham\, B1 3HE
CATEGORIES:Performances
ATTACH;FMTTYPE=image/png:https://jontrevor.me/wp-content/uploads/2021/05/logoheader2.png
ORGANIZER;CN="Birmingham Improv":MAILTO:info@birminghamimprov.com
END:VEVENT
BEGIN:VEVENT
DTSTART;TZID=Europe/London:20260318T193000
DTEND;TZID=Europe/London:20260318T213000
DTSTAMP:20260422T112442
CREATED:20260209T111836Z
LAST-MODIFIED:20260209T111836Z
UID:10000377-1773862200-1773869400@jontrevor.me
SUMMARY:Breakfast of Champions
DESCRIPTION:I perform at Midlands Improv Night on the third Wednesday of every month\, with house team Breakfast of Champions\, alongside other groups from around the Midlands. \nCome and see us at 1000 Trades\, 16 Fredrick Street\, Birmingham\, B1 3HE \nDoors open 7.15\, show starts 7.30 \nFree entry.
URL:https://jontrevor.me/event/breakfast-of-champions-2/2026-03-18/
LOCATION:1000 Trades Pub\, 16 Frederick St\, Jewellery Quarter\, Birmingham\, B1 3HE
CATEGORIES:Performances
ATTACH;FMTTYPE=image/jpeg:https://jontrevor.me/wp-content/uploads/2024/11/breakfast.jpg
END:VEVENT
BEGIN:VEVENT
DTSTART;TZID=Europe/London:20260311T193000
DTEND;TZID=Europe/London:20260311T213000
DTSTAMP:20260422T112442
CREATED:20260209T113546Z
LAST-MODIFIED:20260209T113709Z
UID:10000406-1773257400-1773264600@jontrevor.me
SUMMARY:Improv Comedy with Box of Frogs @ 1000 Trades
DESCRIPTION:Box of Frogs\, Birmingham’s premiere Improv Group\, bring you a night of high-octane improvised comedy nonsense\, based entirely on your suggestions. Expect the unexpected as quick-witted players conjure up hilarious spontaneous songs\, sketches and scenes on the spur of the moment. \nUpstairs at 1000 Trades Pub in the Jewellery Quarter. \nFree Entry – Bucket collection if you laughed! (Recommended donation £5)
URL:https://jontrevor.me/event/improv-comedy-with-box-of-frogs-1000-trades-2/2026-03-11/
LOCATION:1000 Trades Pub\, 16 Frederick St\, Jewellery Quarter\, Birmingham\, B1 3HE
CATEGORIES:Performances
ATTACH;FMTTYPE=image/png:https://jontrevor.me/wp-content/uploads/2021/05/logoheader2.png
ORGANIZER;CN="Birmingham Improv":MAILTO:info@birminghamimprov.com
END:VEVENT
BEGIN:VEVENT
DTSTART;TZID=Europe/London:20260218T193000
DTEND;TZID=Europe/London:20260218T213000
DTSTAMP:20260422T112442
CREATED:20260209T111836Z
LAST-MODIFIED:20260209T111836Z
UID:10000376-1771443000-1771450200@jontrevor.me
SUMMARY:Breakfast of Champions
DESCRIPTION:I perform at Midlands Improv Night on the third Wednesday of every month\, with house team Breakfast of Champions\, alongside other groups from around the Midlands. \nCome and see us at 1000 Trades\, 16 Fredrick Street\, Birmingham\, B1 3HE \nDoors open 7.15\, show starts 7.30 \nFree entry.
URL:https://jontrevor.me/event/breakfast-of-champions-2/2026-02-18/
LOCATION:1000 Trades Pub\, 16 Frederick St\, Jewellery Quarter\, Birmingham\, B1 3HE
CATEGORIES:Performances
ATTACH;FMTTYPE=image/jpeg:https://jontrevor.me/wp-content/uploads/2024/11/breakfast.jpg
END:VEVENT
BEGIN:VEVENT
DTSTART;TZID=Europe/London:20260211T193000
DTEND;TZID=Europe/London:20260211T213000
DTSTAMP:20260422T112442
CREATED:20260209T113546Z
LAST-MODIFIED:20260209T113709Z
UID:10000405-1770838200-1770845400@jontrevor.me
SUMMARY:Improv Comedy with Box of Frogs @ 1000 Trades
DESCRIPTION:Box of Frogs\, Birmingham’s premiere Improv Group\, bring you a night of high-octane improvised comedy nonsense\, based entirely on your suggestions. Expect the unexpected as quick-witted players conjure up hilarious spontaneous songs\, sketches and scenes on the spur of the moment. \nUpstairs at 1000 Trades Pub in the Jewellery Quarter. \nFree Entry – Bucket collection if you laughed! (Recommended donation £5)
URL:https://jontrevor.me/event/improv-comedy-with-box-of-frogs-1000-trades-2/2026-02-11/
LOCATION:1000 Trades Pub\, 16 Frederick St\, Jewellery Quarter\, Birmingham\, B1 3HE
CATEGORIES:Performances
ATTACH;FMTTYPE=image/png:https://jontrevor.me/wp-content/uploads/2021/05/logoheader2.png
ORGANIZER;CN="Birmingham Improv":MAILTO:info@birminghamimprov.com
END:VEVENT
BEGIN:VEVENT
DTSTART;TZID=Europe/London:20251217T193000
DTEND;TZID=Europe/London:20251217T213000
DTSTAMP:20260422T112442
CREATED:20251001T113615Z
LAST-MODIFIED:20251001T114156Z
UID:10000357-1765999800-1766007000@jontrevor.me
SUMMARY:Breakfast of Champions
DESCRIPTION:I perform at Midlands Improv Night on the third Wednesday of every month\, with house team Breakfast of Champions\, alongside other groups from around the Midlands. \nCome and see us at 1000 Trades\, 16 Fredrick Street\, Birmingham\, B1 3HE \nDoors open 7.15\, show starts 7.30 \nFree entry.
URL:https://jontrevor.me/event/breakfast-of-champions/2025-12-17/
LOCATION:1000 Trades Pub\, 16 Frederick St\, Jewellery Quarter\, Birmingham\, B1 3HE
CATEGORIES:Performances
ATTACH;FMTTYPE=image/jpeg:https://jontrevor.me/wp-content/uploads/2024/11/breakfast.jpg
END:VEVENT
BEGIN:VEVENT
DTSTART;TZID=Europe/London:20251210T193000
DTEND;TZID=Europe/London:20251210T213000
DTSTAMP:20260422T112442
CREATED:20251001T113848Z
LAST-MODIFIED:20251001T114227Z
UID:10000360-1765395000-1765402200@jontrevor.me
SUMMARY:Box of Frogs
DESCRIPTION:I perform at Midlands Improv Night on the second Wednesday of every month\, with award-winning comedy improv group Box of Frogs. \nSongs\, scenes and high-octane comedy. \nCome and see us at 1000 Trades\, 16 Fredrick Street\, Birmingham\, B1 3HE \nDoors open 7.15\, show starts 7.30 \nFree entry.
URL:https://jontrevor.me/event/box-of-frogs/2025-12-10/
LOCATION:1000 Trades Pub\, 16 Frederick St\, Jewellery Quarter\, Birmingham\, B1 3HE
CATEGORIES:Performances
ATTACH;FMTTYPE=image/jpeg:https://jontrevor.me/wp-content/uploads/2024/11/2024_Box-of-Frogs-Group-1-1500x1500-Square-1.jpg
END:VEVENT
BEGIN:VEVENT
DTSTART;TZID=Europe/London:20251119T193000
DTEND;TZID=Europe/London:20251119T213000
DTSTAMP:20260422T112442
CREATED:20251001T113615Z
LAST-MODIFIED:20251001T114156Z
UID:10000356-1763580600-1763587800@jontrevor.me
SUMMARY:Breakfast of Champions
DESCRIPTION:I perform at Midlands Improv Night on the third Wednesday of every month\, with house team Breakfast of Champions\, alongside other groups from around the Midlands. \nCome and see us at 1000 Trades\, 16 Fredrick Street\, Birmingham\, B1 3HE \nDoors open 7.15\, show starts 7.30 \nFree entry.
URL:https://jontrevor.me/event/breakfast-of-champions/2025-11-19/
LOCATION:1000 Trades Pub\, 16 Frederick St\, Jewellery Quarter\, Birmingham\, B1 3HE
CATEGORIES:Performances
ATTACH;FMTTYPE=image/jpeg:https://jontrevor.me/wp-content/uploads/2024/11/breakfast.jpg
END:VEVENT
BEGIN:VEVENT
DTSTART;TZID=Europe/London:20251112T193000
DTEND;TZID=Europe/London:20251112T213000
DTSTAMP:20260422T112442
CREATED:20251001T113848Z
LAST-MODIFIED:20251001T114227Z
UID:10000359-1762975800-1762983000@jontrevor.me
SUMMARY:Box of Frogs
DESCRIPTION:I perform at Midlands Improv Night on the second Wednesday of every month\, with award-winning comedy improv group Box of Frogs. \nSongs\, scenes and high-octane comedy. \nCome and see us at 1000 Trades\, 16 Fredrick Street\, Birmingham\, B1 3HE \nDoors open 7.15\, show starts 7.30 \nFree entry.
URL:https://jontrevor.me/event/box-of-frogs/2025-11-12/
LOCATION:1000 Trades Pub\, 16 Frederick St\, Jewellery Quarter\, Birmingham\, B1 3HE
CATEGORIES:Performances
ATTACH;FMTTYPE=image/jpeg:https://jontrevor.me/wp-content/uploads/2024/11/2024_Box-of-Frogs-Group-1-1500x1500-Square-1.jpg
END:VEVENT
BEGIN:VEVENT
DTSTART;TZID=Europe/London:20251015T193000
DTEND;TZID=Europe/London:20251015T213000
DTSTAMP:20260422T112442
CREATED:20251001T113615Z
LAST-MODIFIED:20251001T114156Z
UID:10000355-1760556600-1760563800@jontrevor.me
SUMMARY:Breakfast of Champions
DESCRIPTION:I perform at Midlands Improv Night on the third Wednesday of every month\, with house team Breakfast of Champions\, alongside other groups from around the Midlands. \nCome and see us at 1000 Trades\, 16 Fredrick Street\, Birmingham\, B1 3HE \nDoors open 7.15\, show starts 7.30 \nFree entry.
URL:https://jontrevor.me/event/breakfast-of-champions/2025-10-15/
LOCATION:1000 Trades Pub\, 16 Frederick St\, Jewellery Quarter\, Birmingham\, B1 3HE
CATEGORIES:Performances
ATTACH;FMTTYPE=image/jpeg:https://jontrevor.me/wp-content/uploads/2024/11/breakfast.jpg
END:VEVENT
BEGIN:VEVENT
DTSTART;TZID=Europe/London:20251008T193000
DTEND;TZID=Europe/London:20251210T213000
DTSTAMP:20260422T112442
CREATED:20251001T115109Z
LAST-MODIFIED:20251001T115109Z
UID:10000372-1759951800-1765402200@jontrevor.me
SUMMARY:Birmingham Improv Comedy Jam ft. Box of Frogs
DESCRIPTION:Come and enjoy the Birmingham Improv comedy Jam on the last Wednesday of every month!! \nAn evening of fun for all. Turn up\, grab a drink\, put your name in the hat\, and perform! Or if you prefer\, just watch the fun! \nWith a different Improv group invited  to entertain us each month for the first half. Followed by a jam hosted by us\, resident guests Box of Frogs. \nCome and play your favourite improv games\, take part in improvised scenes\, sketches and songs\, or just sit back and watch. \nSuitable for all levels of experience\, including complete beginners. \nShow starts at 7.30.  Come earlier if you fancy a drink first. \nFree Entry (recommended donation\, £5)
URL:https://jontrevor.me/event/birmingham-improv-comedy-jam-ft-box-of-frogs-2/2025-10-08/
LOCATION:1000 Trades Pub\, 16 Frederick St\, Jewellery Quarter\, Birmingham\, B1 3HE
CATEGORIES:Performances
ATTACH;FMTTYPE=image/png:https://jontrevor.me/wp-content/uploads/2024/03/bimprov-comedy-jam-sq-blk-bg.png
ORGANIZER;CN="Birmingham Improv":MAILTO:info@birminghamimprov.com
END:VEVENT
BEGIN:VEVENT
DTSTART;TZID=Europe/London:20251008T193000
DTEND;TZID=Europe/London:20251008T213000
DTSTAMP:20260422T112442
CREATED:20251001T113848Z
LAST-MODIFIED:20251001T114227Z
UID:10000358-1759951800-1759959000@jontrevor.me
SUMMARY:Box of Frogs
DESCRIPTION:I perform at Midlands Improv Night on the second Wednesday of every month\, with award-winning comedy improv group Box of Frogs. \nSongs\, scenes and high-octane comedy. \nCome and see us at 1000 Trades\, 16 Fredrick Street\, Birmingham\, B1 3HE \nDoors open 7.15\, show starts 7.30 \nFree entry.
URL:https://jontrevor.me/event/box-of-frogs/2025-10-08/
LOCATION:1000 Trades Pub\, 16 Frederick St\, Jewellery Quarter\, Birmingham\, B1 3HE
CATEGORIES:Performances
ATTACH;FMTTYPE=image/jpeg:https://jontrevor.me/wp-content/uploads/2024/11/2024_Box-of-Frogs-Group-1-1500x1500-Square-1.jpg
END:VEVENT
END:VCALENDAR