BEGIN:VCALENDAR
VERSION:2.0
PRODID:-//Jon Trevor - Improv Teacher &amp; Performer - ECPv6.15.15//NONSGML v1.0//EN
CALSCALE:GREGORIAN
METHOD:PUBLISH
X-ORIGINAL-URL:https://jontrevor.me
X-WR-CALDESC:Events for Jon Trevor - Improv Teacher &amp; Performer
REFRESH-INTERVAL;VALUE=DURATION:PT1H
X-Robots-Tag:noindex
X-PUBLISHED-TTL:PT1H
BEGIN:VTIMEZONE
TZID:Europe/London
BEGIN:DAYLIGHT
TZOFFSETFROM:+0000
TZOFFSETTO:+0100
TZNAME:BST
DTSTART:20240331T010000
END:DAYLIGHT
BEGIN:STANDARD
TZOFFSETFROM:+0100
TZOFFSETTO:+0000
TZNAME:GMT
DTSTART:20241027T010000
END:STANDARD
BEGIN:DAYLIGHT
TZOFFSETFROM:+0000
TZOFFSETTO:+0100
TZNAME:BST
DTSTART:20250330T010000
END:DAYLIGHT
BEGIN:STANDARD
TZOFFSETFROM:+0100
TZOFFSETTO:+0000
TZNAME:GMT
DTSTART:20251026T010000
END:STANDARD
BEGIN:DAYLIGHT
TZOFFSETFROM:+0000
TZOFFSETTO:+0100
TZNAME:BST
DTSTART:20260329T010000
END:DAYLIGHT
BEGIN:STANDARD
TZOFFSETFROM:+0100
TZOFFSETTO:+0000
TZNAME:GMT
DTSTART:20261025T010000
END:STANDARD
END:VTIMEZONE
BEGIN:VEVENT
DTSTART;TZID=Europe/London:20250927T200000
DTEND;TZID=Europe/London:20250927T210000
DTSTAMP:20260423T154627
CREATED:20260209T112022Z
LAST-MODIFIED:20260209T112022Z
UID:10000389-1759003200-1759006800@jontrevor.me
SUMMARY:Breakfast of Champions at Liverpool Improv Festival
DESCRIPTION:Breakfast of Champions presents their signature longform format The Big Breakfast\, at the fabulous Liverpool Improv Festival.
URL:https://jontrevor.me/event/breakfast-of-champions-at-liverpool-improv-festival/
LOCATION:ShiZi Improv Club\, Sofia Center\, ulitsa\, Georgi S. Rakovski“ 127\, Sofia\, 1000\, Bulgaria
CATEGORIES:Performances
ATTACH;FMTTYPE=image/avif:https://jontrevor.me/wp-content/uploads/2025/10/Program_performers-showsnames.avif
END:VEVENT
END:VCALENDAR