BEGIN:VCALENDAR
VERSION:2.0
PRODID:-//Jon Trevor - Improv Teacher &amp; Performer - ECPv6.15.15//NONSGML v1.0//EN
CALSCALE:GREGORIAN
METHOD:PUBLISH
X-WR-CALNAME:Jon Trevor - Improv Teacher &amp; Performer
X-ORIGINAL-URL:https://jontrevor.me
X-WR-CALDESC:Events for Jon Trevor - Improv Teacher &amp; Performer
REFRESH-INTERVAL;VALUE=DURATION:PT1H
X-Robots-Tag:noindex
X-PUBLISHED-TTL:PT1H
BEGIN:VTIMEZONE
TZID:Europe/London
BEGIN:DAYLIGHT
TZOFFSETFROM:+0000
TZOFFSETTO:+0100
TZNAME:BST
DTSTART:20250330T010000
END:DAYLIGHT
BEGIN:STANDARD
TZOFFSETFROM:+0100
TZOFFSETTO:+0000
TZNAME:GMT
DTSTART:20251026T010000
END:STANDARD
BEGIN:DAYLIGHT
TZOFFSETFROM:+0000
TZOFFSETTO:+0100
TZNAME:BST
DTSTART:20260329T010000
END:DAYLIGHT
BEGIN:STANDARD
TZOFFSETFROM:+0100
TZOFFSETTO:+0000
TZNAME:GMT
DTSTART:20261025T010000
END:STANDARD
BEGIN:DAYLIGHT
TZOFFSETFROM:+0000
TZOFFSETTO:+0100
TZNAME:BST
DTSTART:20270328T010000
END:DAYLIGHT
BEGIN:STANDARD
TZOFFSETFROM:+0100
TZOFFSETTO:+0000
TZNAME:GMT
DTSTART:20271031T010000
END:STANDARD
END:VTIMEZONE
BEGIN:VEVENT
DTSTART;TZID=Europe/London:20260225T193000
DTEND;TZID=Europe/London:20260429T203000
DTSTAMP:20260423T122351
CREATED:20260209T111927Z
LAST-MODIFIED:20260209T113446Z
UID:10000399-1772047800-1777494600@jontrevor.me
SUMMARY:Birmingham Improv Comedy Jam ft. Box of Frogs
DESCRIPTION:Come and enjoy the Birmingham Improv comedy Jam on the last Wednesday of every month!! \nAn evening of fun for all. Turn up\, grab a drink\, put your name in the hat\, and perform! Or if you prefer\, just watch the fun! \nWith a different Improv group invited  to entertain us each month for the first half. Followed by a jam hosted by us\, resident guests Box of Frogs. \nCome and play your favourite improv games\, take part in improvised scenes\, sketches and songs\, or just sit back and watch. \nSuitable for all levels of experience\, including complete beginners. \nShow starts at 7.30.  Come earlier if you fancy a drink first. \nFree Entry (recommended donation\, £5)
URL:https://jontrevor.me/event/birmingham-improv-comedy-jam-ft-box-of-frogs-3/2026-02-25/
LOCATION:1000 Trades Pub\, 16 Frederick St\, Jewellery Quarter\, Birmingham\, B1 3HE
CATEGORIES:Performances
ATTACH;FMTTYPE=image/png:https://jontrevor.me/wp-content/uploads/2024/03/bimprov-comedy-jam-sq-blk-bg.png
ORGANIZER;CN="Birmingham Improv":MAILTO:info@birminghamimprov.com
END:VEVENT
BEGIN:VEVENT
DTSTART;TZID=Europe/London:20260325T193000
DTEND;TZID=Europe/London:20260527T203000
DTSTAMP:20260423T122351
CREATED:20260209T111927Z
LAST-MODIFIED:20260209T113446Z
UID:10000400-1774467000-1779913800@jontrevor.me
SUMMARY:Birmingham Improv Comedy Jam ft. Box of Frogs
DESCRIPTION:Come and enjoy the Birmingham Improv comedy Jam on the last Wednesday of every month!! \nAn evening of fun for all. Turn up\, grab a drink\, put your name in the hat\, and perform! Or if you prefer\, just watch the fun! \nWith a different Improv group invited  to entertain us each month for the first half. Followed by a jam hosted by us\, resident guests Box of Frogs. \nCome and play your favourite improv games\, take part in improvised scenes\, sketches and songs\, or just sit back and watch. \nSuitable for all levels of experience\, including complete beginners. \nShow starts at 7.30.  Come earlier if you fancy a drink first. \nFree Entry (recommended donation\, £5)
URL:https://jontrevor.me/event/birmingham-improv-comedy-jam-ft-box-of-frogs-3/2026-03-25/
LOCATION:1000 Trades Pub\, 16 Frederick St\, Jewellery Quarter\, Birmingham\, B1 3HE
CATEGORIES:Performances
ATTACH;FMTTYPE=image/png:https://jontrevor.me/wp-content/uploads/2024/03/bimprov-comedy-jam-sq-blk-bg.png
ORGANIZER;CN="Birmingham Improv":MAILTO:info@birminghamimprov.com
END:VEVENT
BEGIN:VEVENT
DTSTART;TZID=Europe/London:20260423T193000
DTEND;TZID=Europe/London:20260423T213000
DTSTAMP:20260423T122351
CREATED:20260209T114451Z
LAST-MODIFIED:20260209T114451Z
UID:10000411-1776972600-1776979800@jontrevor.me
SUMMARY:Improv Improvers - Level 2 Evening Class at Midlands Arts Centre.
DESCRIPTION:A 12-week follow-on course to advance and develop your improv comedy skills. \nThroughout this course you will: \n\nhone your short-form game skills\n\n\nunderstand how to initiate and sustain great improv comedy scenes\n\n\nemploy a variety of edit styles and techniques to support fellow players\n\n\ncombine scenes into enjoyable longform sets\n\n\nlearn a number of longform formats for shows\n\nAll while having enormous fun and laughing uproariously! \nTowards the end of the course\, you can be part of a public showcase performance\, providing the perfect opportunity to share your newfound skills with family and friends \nThis course is suitable for adults aged 18+ years. It is open to improvers who have taken the Introduction to Improv course  at MAC or equivalent elsewhere. \nRuns on Thursday evenings from April 23rd – June 9th \nInfo and booking – https://macbirmingham.co.uk/courses/improv-improvers-pe103-summer-3
URL:https://jontrevor.me/event/improv-improvers-level-2-evening-class-at-midlands-arts-centre-2/
CATEGORIES:Teaching Advanced
ATTACH;FMTTYPE=image/jpeg:https://jontrevor.me/wp-content/uploads/2022/01/Improv-M_5eb11e2b86c14052df194262a7a5ebe5.jpg
END:VEVENT
END:VCALENDAR